BEGIN:VCALENDAR
VERSION:2.0
PRODID:-//Rural Development Initiatives - ECPv6.15.17//NONSGML v1.0//EN
CALSCALE:GREGORIAN
METHOD:PUBLISH
X-ORIGINAL-URL:https://rdiinc.org
X-WR-CALDESC:Events for Rural Development Initiatives
REFRESH-INTERVAL;VALUE=DURATION:PT1H
X-Robots-Tag:noindex
X-PUBLISHED-TTL:PT1H
BEGIN:VTIMEZONE
TZID:America/Los_Angeles
BEGIN:DAYLIGHT
TZOFFSETFROM:-0800
TZOFFSETTO:-0700
TZNAME:PDT
DTSTART:20240310T100000
END:DAYLIGHT
BEGIN:STANDARD
TZOFFSETFROM:-0700
TZOFFSETTO:-0800
TZNAME:PST
DTSTART:20241103T090000
END:STANDARD
BEGIN:DAYLIGHT
TZOFFSETFROM:-0800
TZOFFSETTO:-0700
TZNAME:PDT
DTSTART:20250309T100000
END:DAYLIGHT
BEGIN:STANDARD
TZOFFSETFROM:-0700
TZOFFSETTO:-0800
TZNAME:PST
DTSTART:20251102T090000
END:STANDARD
BEGIN:DAYLIGHT
TZOFFSETFROM:-0800
TZOFFSETTO:-0700
TZNAME:PDT
DTSTART:20260308T100000
END:DAYLIGHT
BEGIN:STANDARD
TZOFFSETFROM:-0700
TZOFFSETTO:-0800
TZNAME:PST
DTSTART:20261101T090000
END:STANDARD
END:VTIMEZONE
BEGIN:VEVENT
DTSTART;VALUE=DATE:20251001
DTEND;VALUE=DATE:20251101
DTSTAMP:20260425T134559
CREATED:20250725T164355Z
LAST-MODIFIED:20250813T155939Z
UID:12208-1759276800-1761955199@rdiinc.org
SUMMARY:October is Rural Economy & Industry Month!
DESCRIPTION:The Rural Visibility Project kicks off this month with a focus on Rural Economy and Industry. This yearlong campaign is designed to center rural priorities through community-driven dialogue between local\, state\, and regional entities. Through monthly topic experts and rural people sharing information\, these conversations aim to generate more rurally-informed solutions\, policies\, and decisions\, while also fostering greater local action and leadership. Powered by rural people and focused around monthly themes\, the Rural Visibility Project shines a light on realities\, concerns\, and possibilities that matter in the places we call home. You can help shine a light on rural priorities. Click here to learn more about the project and ways you can get involved.
URL:https://rdiinc.org/event/september-is-rural-economy-industry-month/
END:VEVENT
BEGIN:VEVENT
DTSTART;TZID=America/Los_Angeles:20251001T090000
DTEND;TZID=America/Los_Angeles:20251001T134500
DTSTAMP:20260425T134559
CREATED:20250813T002557Z
LAST-MODIFIED:20250926T222058Z
UID:12279-1759309200-1759326300@rdiinc.org
SUMMARY:Regional Wood Utilization Sector Opportunities Conversation
DESCRIPTION:McCloud\, CA
URL:https://rdiinc.org/event/wood-products-and-processing-opportunities-conversation/
END:VEVENT
BEGIN:VEVENT
DTSTART;TZID=America/Los_Angeles:20251001T100000
DTEND;TZID=America/Los_Angeles:20251001T120000
DTSTAMP:20260425T134559
CREATED:20250919T182500Z
LAST-MODIFIED:20250926T220601Z
UID:12440-1759312800-1759320000@rdiinc.org
SUMMARY:Rural Civic Engagement Project: Weaving People\, Priorities\, & Power - Women's Leadership Cohort
DESCRIPTION:A collaboration between the Center for Women’s Leadership (CWL) and RDI that’s uniquely curated for rural women leaders to learn to navigate local and state government\, define and champion community priorities\, develop compelling issue and candidate campaigns\, and create action plans that make things happen. \nStarting October 1\, this opportunity includes four virtual sessions featuring inspiring elected officials and leaders across sectors\, and a trip to Salem\, OR\, to visit the Capitol and witness state government firsthand. This will be the third cohort of this learning community that has brought together changemakers to catalyze cross-sector pollination through building trust-centered relationships and connections to the Oregon State Legislature.
URL:https://rdiinc.org/event/turn-up-your-voice-taking-action-for-change-womens-leadership-cohort/
END:VEVENT
BEGIN:VEVENT
DTSTART;TZID=America/Los_Angeles:20251002T100000
DTEND;TZID=America/Los_Angeles:20251002T120000
DTSTAMP:20260425T134559
CREATED:20250919T184210Z
LAST-MODIFIED:20250919T184210Z
UID:12450-1759399200-1759406400@rdiinc.org
SUMMARY:Ready\, Set\, Grant! Getting Your Organization Funding Ready
DESCRIPTION:This 5-session virtual grant-writing and fund preparedness training is targeted to small\, rural nonprofits in the Pacific Northwest.
URL:https://rdiinc.org/event/ready-set-grant-getting-your-organization-funding-ready-6/
END:VEVENT
BEGIN:VEVENT
DTSTART;TZID=America/Los_Angeles:20251009T100000
DTEND;TZID=America/Los_Angeles:20251009T120000
DTSTAMP:20260425T134559
CREATED:20250919T184323Z
LAST-MODIFIED:20250919T184323Z
UID:12452-1760004000-1760011200@rdiinc.org
SUMMARY:Ready\, Set\, Grant! Getting Your Organization Funding Ready
DESCRIPTION:This 5-session virtual grant-writing and fund preparedness training is targeted to small\, rural nonprofits in the Pacific Northwest.
URL:https://rdiinc.org/event/ready-set-grant-getting-your-organization-funding-ready-7/
END:VEVENT
BEGIN:VEVENT
DTSTART;TZID=America/Los_Angeles:20251011T080000
DTEND;TZID=America/Los_Angeles:20251011T143000
DTSTAMP:20260425T134559
CREATED:20250808T175803Z
LAST-MODIFIED:20250808T175803Z
UID:12246-1760169600-1760193000@rdiinc.org
SUMMARY:Othello Rural Community Leadership Program
DESCRIPTION:Othello\, WA
URL:https://rdiinc.org/event/othello-rural-community-leadership-program/
END:VEVENT
BEGIN:VEVENT
DTSTART;TZID=America/Los_Angeles:20251011T090000
DTEND;TZID=America/Los_Angeles:20251011T140000
DTSTAMP:20260425T134559
CREATED:20250811T055900Z
LAST-MODIFIED:20250811T055900Z
UID:12273-1760173200-1760191200@rdiinc.org
SUMMARY:Empieza tu Negocio de Cuidado de Niños | Childcare Business Training
DESCRIPTION:Seaside\, OR
URL:https://rdiinc.org/event/empieza-tu-negocio-de-cuidado-de-ninos-childcare-business-training/
END:VEVENT
BEGIN:VEVENT
DTSTART;TZID=America/Los_Angeles:20251011T100000
DTEND;TZID=America/Los_Angeles:20251011T140000
DTSTAMP:20260425T134559
CREATED:20250919T181102Z
LAST-MODIFIED:20250919T181102Z
UID:12436-1760176800-1760191200@rdiinc.org
SUMMARY:Lunch Learn Lead: Klamath Falls
DESCRIPTION:This 4-hour interactive leadership development training is tailored for rural leaders in the Pacific Northwest. By the end of the workshop\, participants will leave equipped with the knowledge and confidence to understand their leadership role\, explore volunteer recruitment and retention\, and build collaborative partnerships. This training will be offered in Spanish on November 8.
URL:https://rdiinc.org/event/lunch-learn-lead-klamath-falls/
END:VEVENT
BEGIN:VEVENT
DTSTART;TZID=America/Los_Angeles:20251015T100000
DTEND;TZID=America/Los_Angeles:20251015T120000
DTSTAMP:20260425T134559
CREATED:20250919T182708Z
LAST-MODIFIED:20250926T222411Z
UID:12442-1760522400-1760529600@rdiinc.org
SUMMARY:Rural Civic Engagement Project: Weaving People\, Priorities\, & Power - Women's Leadership Cohort
DESCRIPTION:A collaboration between the Center for Women’s Leadership (CWL) and RDI that’s uniquely curated for rural women leaders to learn to navigate local and state government\, define and champion community priorities\, develop compelling issue and candidate campaigns\, and create action plans that make things happen. \nStarting October 1\, this opportunity includes four virtual sessions featuring inspiring elected officials and leaders across sectors\, and a trip to Salem\, OR\, to visit the Capitol and witness state government firsthand. This will be the third cohort of this learning community that has brought together changemakers to catalyze cross-sector pollination through building trust-centered relationships and connections to the Oregon State Legislature.
URL:https://rdiinc.org/event/turn-up-your-voice-taking-action-for-change-womens-leadership-cohort-2/
END:VEVENT
BEGIN:VEVENT
DTSTART;TZID=America/Los_Angeles:20251016T100000
DTEND;TZID=America/Los_Angeles:20251016T120000
DTSTAMP:20260425T134559
CREATED:20250919T184416Z
LAST-MODIFIED:20250919T184416Z
UID:12454-1760608800-1760616000@rdiinc.org
SUMMARY:Ready\, Set\, Grant! Getting Your Organization Funding Ready
DESCRIPTION:This 5-session virtual grant-writing and fund preparedness training is targeted to small\, rural nonprofits in the Pacific Northwest.
URL:https://rdiinc.org/event/ready-set-grant-getting-your-organization-funding-ready-8/
END:VEVENT
BEGIN:VEVENT
DTSTART;TZID=America/Los_Angeles:20251016T173000
DTEND;TZID=America/Los_Angeles:20251016T193000
DTSTAMP:20260425T134559
CREATED:20250926T222911Z
LAST-MODIFIED:20250926T222911Z
UID:12471-1760635800-1760643000@rdiinc.org
SUMMARY:Legal Clinic: Know Your Rights Virtual Workshop
DESCRIPTION:This event provides valuable resources and reliable guidance to understand rights under immigration law.
URL:https://rdiinc.org/event/legal-clinic-know-your-rights-virtual-workshop/
END:VEVENT
BEGIN:VEVENT
DTSTART;TZID=America/Los_Angeles:20251017T080000
DTEND;TZID=America/Los_Angeles:20251017T150000
DTSTAMP:20260425T134559
CREATED:20250808T175957Z
LAST-MODIFIED:20250808T175957Z
UID:12248-1760688000-1760713200@rdiinc.org
SUMMARY:Ontario Rural Community Leadership Program
DESCRIPTION:Ontario\, OR
URL:https://rdiinc.org/event/ontario-rural-community-leadership-program-2/
END:VEVENT
BEGIN:VEVENT
DTSTART;TZID=America/Los_Angeles:20251018T090000
DTEND;TZID=America/Los_Angeles:20251018T140000
DTSTAMP:20260425T134559
CREATED:20250811T060059Z
LAST-MODIFIED:20250811T060059Z
UID:12275-1760778000-1760796000@rdiinc.org
SUMMARY:Empieza tu Negocio de Cuidado de Niños | Childcare Business Training
DESCRIPTION:Seaside\, OR
URL:https://rdiinc.org/event/empieza-tu-negocio-de-cuidado-de-ninos-childcare-business-training-2/
END:VEVENT
BEGIN:VEVENT
DTSTART;TZID=America/Los_Angeles:20251023T100000
DTEND;TZID=America/Los_Angeles:20251023T120000
DTSTAMP:20260425T134559
CREATED:20250919T184619Z
LAST-MODIFIED:20250919T184619Z
UID:12456-1761213600-1761220800@rdiinc.org
SUMMARY:Ready\, Set\, Grant! Getting Your Organization Funding Ready
DESCRIPTION:This 5-session virtual grant-writing and fund preparedness training is targeted to small\, rural nonprofits in the Pacific Northwest.
URL:https://rdiinc.org/event/ready-set-grant-getting-your-organization-funding-ready-9/
END:VEVENT
BEGIN:VEVENT
DTSTART;TZID=America/Los_Angeles:20251023T123000
DTEND;TZID=America/Los_Angeles:20251023T140000
DTSTAMP:20260425T134559
CREATED:20250813T155911Z
LAST-MODIFIED:20250813T155911Z
UID:12282-1761222600-1761228000@rdiinc.org
SUMMARY:Community Conversation: Rural Visibility Project - Rural Economic Models & Sectors
DESCRIPTION:
URL:https://rdiinc.org/event/community-conversation-rural-visibility-project-rural-economic-models-sectors/
END:VEVENT
BEGIN:VEVENT
DTSTART;TZID=America/Los_Angeles:20251025T090000
DTEND;TZID=America/Los_Angeles:20251025T140000
DTSTAMP:20260425T134559
CREATED:20250811T060245Z
LAST-MODIFIED:20250811T060245Z
UID:12277-1761382800-1761400800@rdiinc.org
SUMMARY:Empieza tu Negocio de Cuidado de Niños | Childcare Business Training
DESCRIPTION:Seaside\, OR
URL:https://rdiinc.org/event/empieza-tu-negocio-de-cuidado-de-ninos-childcare-business-training-3/
END:VEVENT
BEGIN:VEVENT
DTSTART;TZID=America/Los_Angeles:20251025T090000
DTEND;TZID=America/Los_Angeles:20251025T163000
DTSTAMP:20260425T134559
CREATED:20251020T182722Z
LAST-MODIFIED:20251020T182945Z
UID:12539-1761382800-1761409800@rdiinc.org
SUMMARY:Civic Leadership Workshop
DESCRIPTION:Independence\, OR \nDiscover how local government works in this free hands-on\, full-day workshop on October 25 in Independence\, OR\, designed for emerging and aspiring community leaders. Start the day with City Government 101\, followed by a behind-the-scenes tour of City Hall\, the police department\, and city planning offices. After a networking lunch\, attend a community-based\, leadership skills workshop led by RDI. You’ll learn practical strategies to recruit and engage volunteers\, and skills for building the social connections that make real change possible. This workshop will be delivered simultaneously in English and Spanish.
URL:https://rdiinc.org/event/civic-leadership-workshop/
END:VEVENT
BEGIN:VEVENT
DTSTART;TZID=America/Los_Angeles:20251025T100000
DTEND;TZID=America/Los_Angeles:20251025T140000
DTSTAMP:20260425T134559
CREATED:20250908T191108Z
LAST-MODIFIED:20250908T191108Z
UID:12367-1761386400-1761400800@rdiinc.org
SUMMARY:Lunch Learn Lead Workshop
DESCRIPTION:Independence\, OR
URL:https://rdiinc.org/event/lunch-learn-lead-workshop/
END:VEVENT
BEGIN:VEVENT
DTSTART;TZID=America/Los_Angeles:20251029T100000
DTEND;TZID=America/Los_Angeles:20251029T120000
DTSTAMP:20260425T134559
CREATED:20250919T182825Z
LAST-MODIFIED:20250926T222259Z
UID:12444-1761732000-1761739200@rdiinc.org
SUMMARY:Rural Civic Engagement Project: Weaving People\, Priorities\, & Power - Women's Leadership Cohort
DESCRIPTION:A collaboration between the Center for Women’s Leadership (CWL) and RDI that’s uniquely curated for rural women leaders to learn to navigate local and state government\, define and champion community priorities\, develop compelling issue and candidate campaigns\, and create action plans that make things happen. \nStarting October 1\, this opportunity includes four virtual sessions featuring inspiring elected officials and leaders across sectors\, and a trip to Salem\, OR\, to visit the Capitol and witness state government firsthand. This will be the third cohort of this learning community that has brought together changemakers to catalyze cross-sector pollination through building trust-centered relationships and connections to the Oregon State Legislature.
URL:https://rdiinc.org/event/turn-up-your-voice-taking-action-for-change-womens-leadership-cohort-3/
END:VEVENT
BEGIN:VEVENT
DTSTART;TZID=America/Los_Angeles:20251030T100000
DTEND;TZID=America/Los_Angeles:20251030T120000
DTSTAMP:20260425T134559
CREATED:20250919T184723Z
LAST-MODIFIED:20250919T184723Z
UID:12458-1761818400-1761825600@rdiinc.org
SUMMARY:Ready\, Set\, Grant! Getting Your Organization Funding Ready
DESCRIPTION:This 5-session virtual grant-writing and fund preparedness training is targeted to small\, rural nonprofits in the Pacific Northwest.
URL:https://rdiinc.org/event/ready-set-grant-getting-your-organization-funding-ready-10/
END:VEVENT
END:VCALENDAR