BEGIN:VCALENDAR
VERSION:2.0
PRODID:-//Rural Development Initiatives - ECPv6.15.17//NONSGML v1.0//EN
CALSCALE:GREGORIAN
METHOD:PUBLISH
X-ORIGINAL-URL:https://rdiinc.org
X-WR-CALDESC:Events for Rural Development Initiatives
REFRESH-INTERVAL;VALUE=DURATION:PT1H
X-Robots-Tag:noindex
X-PUBLISHED-TTL:PT1H
BEGIN:VTIMEZONE
TZID:America/Los_Angeles
BEGIN:DAYLIGHT
TZOFFSETFROM:-0800
TZOFFSETTO:-0700
TZNAME:PDT
DTSTART:20250309T100000
END:DAYLIGHT
BEGIN:STANDARD
TZOFFSETFROM:-0700
TZOFFSETTO:-0800
TZNAME:PST
DTSTART:20251102T090000
END:STANDARD
BEGIN:DAYLIGHT
TZOFFSETFROM:-0800
TZOFFSETTO:-0700
TZNAME:PDT
DTSTART:20260308T100000
END:DAYLIGHT
BEGIN:STANDARD
TZOFFSETFROM:-0700
TZOFFSETTO:-0800
TZNAME:PST
DTSTART:20261101T090000
END:STANDARD
BEGIN:DAYLIGHT
TZOFFSETFROM:-0800
TZOFFSETTO:-0700
TZNAME:PDT
DTSTART:20270314T100000
END:DAYLIGHT
BEGIN:STANDARD
TZOFFSETFROM:-0700
TZOFFSETTO:-0800
TZNAME:PST
DTSTART:20271107T090000
END:STANDARD
END:VTIMEZONE
BEGIN:VEVENT
DTSTART;VALUE=DATE:20260201
DTEND;VALUE=DATE:20260301
DTSTAMP:20260425T083300
CREATED:20260113T205946Z
LAST-MODIFIED:20260113T210218Z
UID:12822-1769904000-1772323199@rdiinc.org
SUMMARY:February is Small Business and Downtowns Month!
DESCRIPTION:The Rural Visibility Project is a policy advocacy campaign designed to center rural priorities through community-driven dialogue and elevate rural voices in state-level policy conversations. We are focusing on priority topics to impact specific policies and legislation that will move through the Oregon State Capitol during the short session in 2026\, with the hopes of creating our own rurally inclusive policies for the 2027 session. Along with monthly topics\, we’ll also highlight rural development hubs\, rural nonprofits\, resiliency\, and tribal and rural investment—all critical to rural ecosystems and the education of decision makers at the state and local level. Click here to learn about how you can help spread the word about small businesses and downtowns in rural Oregon\, and explore ways to get involved with the Rural Visibility Project to move rural-oriented solutions across the Pacific Northwest forward. \n 
URL:https://rdiinc.org/event/february-is-small-business-and-downtowns-month/
END:VEVENT
BEGIN:VEVENT
DTSTART;TZID=America/Los_Angeles:20260203T093000
DTEND;TZID=America/Los_Angeles:20260203T113000
DTSTAMP:20260425T083300
CREATED:20250908T184520Z
LAST-MODIFIED:20250908T184520Z
UID:12357-1770111000-1770118200@rdiinc.org
SUMMARY:Main Street Economic Vitality Program: Innovation in Rural with Brad Attig
DESCRIPTION:
URL:https://rdiinc.org/event/main-street-economic-vitality-program-innovation-in-rural-with-brad-attig/
END:VEVENT
BEGIN:VEVENT
DTSTART;TZID=America/Los_Angeles:20260207T080000
DTEND;TZID=America/Los_Angeles:20260207T143000
DTSTAMP:20260425T083300
CREATED:20250808T182247Z
LAST-MODIFIED:20250808T182318Z
UID:12260-1770451200-1770474600@rdiinc.org
SUMMARY:Othello Rural Community Leadership Program
DESCRIPTION:Othello\, WA
URL:https://rdiinc.org/event/othello-rural-community-leadership-program-5/
END:VEVENT
BEGIN:VEVENT
DTSTART;TZID=America/Los_Angeles:20260220T090000
DTEND;TZID=America/Los_Angeles:20260220T130000
DTSTAMP:20260425T083300
CREATED:20260113T175802Z
LAST-MODIFIED:20260113T175802Z
UID:12773-1771578000-1771592400@rdiinc.org
SUMMARY:Ontario Rural Community Leadership Program
DESCRIPTION:Ontario\, OR
URL:https://rdiinc.org/event/ontario-rural-community-leadership-program-6/
END:VEVENT
BEGIN:VEVENT
DTSTART;TZID=America/Los_Angeles:20260221T080000
DTEND;TZID=America/Los_Angeles:20260221T150000
DTSTAMP:20260425T083300
CREATED:20260113T224425Z
LAST-MODIFIED:20260113T224425Z
UID:12825-1771660800-1771686000@rdiinc.org
SUMMARY:Oportunidades en el Bosque/ Forestry Training - Talent\, OR
DESCRIPTION:Oportunidades en el Bosque es un programa de capacitación en desarrollo empresarial y de fuerza laboral culturalmente adaptado para trabajadores forestales latinos. Ofrecido en español y desarrollado por la Extensión de la Universidad Estatal de Oregón (OSU)\, RDI y el Proyecto de Restauración Lomakatsi\, el objetivo del curso es apoyar una diversidad de emprendedores y aumentar la equidad en la economía forestal de Oregón. Al finalizar el programa\, los participantes tendrán el conocimiento y el apoyo necesarios para operar un negocio que sirva a propietarios de pequeños bosques en el sector privado\, y potencialmente navegar el proceso necesario para contratar con agencias de gestión de tierras en Oregon.
URL:https://rdiinc.org/event/oportunidades-en-el-bosque-forestry-training-talent-or/
END:VEVENT
BEGIN:VEVENT
DTSTART;TZID=America/Los_Angeles:20260222T083000
DTEND;TZID=America/Los_Angeles:20260222T150000
DTSTAMP:20260425T083300
CREATED:20260113T224548Z
LAST-MODIFIED:20260113T224548Z
UID:12827-1771749000-1771772400@rdiinc.org
SUMMARY:Oportunidades en el Bosque/ Forestry Training - Talent\, OR
DESCRIPTION:Oportunidades en el Bosque es un programa de capacitación en desarrollo empresarial y de fuerza laboral culturalmente adaptado para trabajadores forestales latinos. Ofrecido en español y desarrollado por la Extensión de la Universidad Estatal de Oregón (OSU)\, RDI y el Proyecto de Restauración Lomakatsi\, el objetivo del curso es apoyar una diversidad de emprendedores y aumentar la equidad en la economía forestal de Oregón. Al finalizar el programa\, los participantes tendrán el conocimiento y el apoyo necesarios para operar un negocio que sirva a propietarios de pequeños bosques en el sector privado\, y potencialmente navegar el proceso necesario para contratar con agencias de gestión de tierras en Oregon.
URL:https://rdiinc.org/event/oportunidades-en-el-bosque-forestry-training-talent-or-2/
END:VEVENT
BEGIN:VEVENT
DTSTART;TZID=America/Los_Angeles:20260224T120000
DTEND;TZID=America/Los_Angeles:20260224T133000
DTSTAMP:20260425T083300
CREATED:20260221T001041Z
LAST-MODIFIED:20260221T001148Z
UID:13013-1771934400-1771939800@rdiinc.org
SUMMARY:Community Conversation: Small Business and Downtowns
DESCRIPTION:An online gathering to engage in information sharing\, peer learning\, and solution building as we talk about the Rural Visibility Project’s February topic: Rural Small Business and Main Streets. We’ll highlight the information that has been shared throughout the month\, bring in some expert insights\, and open up space for you to learn from rural community members. This Community Conversation is free and open to the public. Click here to register.
URL:https://rdiinc.org/event/community-conversation-small-business-and-downtowns/
END:VEVENT
BEGIN:VEVENT
DTSTART;TZID=America/Los_Angeles:20260227T090000
DTEND;TZID=America/Los_Angeles:20260227T140000
DTSTAMP:20260425T083300
CREATED:20260221T001440Z
LAST-MODIFIED:20260221T001440Z
UID:13016-1772182800-1772200800@rdiinc.org
SUMMARY:Gana Ahorra Invierte/ Earn Save Invest – Boardman\, OR
DESCRIPTION:¿Te gustaria aprender de como ahorrar para tu jubilación\, aprender lo básico para empezar a invertir y construir bienes y riqueza? Este entrenamiento de dos sesiones está diseñado para ayudar a los participantes a tomar la iniciativa en la generación de riqueza y fortalecer su conocimiento sobre la diversificación de activos y las distintas opciones de inversión. Se abordarán temas como el ahorro para el retiro\, el emprendimiento\, la propiedad de bienes raíces y otras estrategias para el crecimiento financiero. La mayoría de las personas aspiran a generar riqueza\, pero a menudo enfrentan desafíos para encontrar un camino claro para ellas y para las futuras generaciones. Este espacio busca brindar herramientas prácticas\, información accesible y orientación para comenzar ese camino con mayor seguridad. Entregado en asociación con Migrant Education Oregon\, and FHLB Des Moines Member Impact Fund.
URL:https://rdiinc.org/event/gana-ahorra-invierte-earn-save-invest-boardman-or/
END:VEVENT
BEGIN:VEVENT
DTSTART;TZID=America/Los_Angeles:20260228T080000
DTEND;TZID=America/Los_Angeles:20260228T150000
DTSTAMP:20260425T083300
CREATED:20260113T234445Z
LAST-MODIFIED:20260113T234445Z
UID:12829-1772265600-1772290800@rdiinc.org
SUMMARY:Oportunidades en el Bosque/ Forestry Training - Talent\, OR
DESCRIPTION:Oportunidades en el Bosque es un programa de capacitación en desarrollo empresarial y de fuerza laboral culturalmente adaptado para trabajadores forestales latinos. Ofrecido en español y desarrollado por la Extensión de la Universidad Estatal de Oregón (OSU)\, RDI y el Proyecto de Restauración Lomakatsi\, el objetivo del curso es apoyar una diversidad de emprendedores y aumentar la equidad en la economía forestal de Oregón. Al finalizar el programa\, los participantes tendrán el conocimiento y el apoyo necesarios para operar un negocio que sirva a propietarios de pequeños bosques en el sector privado\, y potencialmente navegar el proceso necesario para contratar con agencias de gestión de tierras en Oregon.
URL:https://rdiinc.org/event/oportunidades-en-el-bosque-forestry-training-talent-or-3/
END:VEVENT
END:VCALENDAR